Workbook
Name _72ч: 'общие сведения'!$A$160
Name _ftn1: ЗС!#REF!
Name _ftn1: 'ЭЗ предм'!#REF!
Name _ftn2: ЗС!#REF!
Name _ftn2: 'ЭЗ предм'!#REF!
Name _ftnref1: ЗС!#REF!
Name _ftnref1: 'ЭЗ предм'!#REF!
Name _ftnref2: ЗС!#REF!
Name _ftnref2: 'ЭЗ предм'!#REF!
Name _дпо: 'общие сведения'!$A$167
Name _рек3: 'общие сведения'!$A$169
Name FIO: 'ЭЗ предм'!$O$9
Name FIO: ЗС!$O$9
Name proverka: 'ЭЗ предм'!$D$490
Name proverka: ЗС!$D$396
Name Аспирант_100: 'ЭЗ предм'!$AF$432
Name Аспирант_100: ЗС!#REF!
Name ВПО_ПП_0: 'ЭЗ предм'!$X$423
Name ВПО_ПП_0: ЗС!#REF!
Name Всего: 'ЭЗ предм'!$AN$442
Name Всего: ЗС!$AN$348
Name вывод1: 'общие сведения'!$F$69
Name год: 'общие сведения'!$H$97
Name датаПрисв_ОС: 'общие сведения'!$I$53
Name долж_ОС: 'общие сведения'!$C$36
Name ЗаявлКатег_ОС: 'общие сведения'!$D$55
Name катег_ОС: 'общие сведения'!$D$53
Name кол_ЭГ: 'общие сведения'!$F$86
Name Курсы_0: 'ЭЗ предм'!$X$418
Name Курсы_0: ЗС!#REF!
Name место_ОС: 'общие сведения'!$C$33
Name МуницОбр_ОС: 'общие сведения'!$G$31
Name порог_в: 'ЭЗ предм'!$X$440
Name порог_в: ЗС!$X$346
Name порог_п: 'ЭЗ предм'!$X$439
Name порог_п: ЗС!$X$345
Name рез_2: 'общие сведения'!$A$81
Name рез_3: 'общие сведения'!$A$82
Name рек_итог: 'общие сведения'!$M$161
Name рек_общ: 'общие сведения'!$M$160
Name рек2: 'общие сведения'!$I$76
Name рек3: 'общие сведения'!$I$79
Name специал_ОС: 'общие сведения'!$C$37
Name стаж_ОС: 'общие сведения'!$D$49
Name фио_1чл: 'общие сведения'!$C$90
Name фио_2чл: 'общие сведения'!$C$92
Name фио_3чл: 'общие сведения'!$C$94
Name фио_ОС: 'общие сведения'!$C$29
Name фио_предс: 'общие сведения'!$C$88
Name ы: 'общие сведения'!$C$37

Sheet общие сведения
A1: =A99 -> Введите данные в ячейки, выделенные цветом
I3: Приложение № 20 к приказу Министерства образования Тверской области от 23.08.2023 № 980/ПК | L3: школа
A4: Регион Тверской области | B4: 2 | E4: =VLOOKUP(A102,$A$102:$H$114,$B$4+1) -> г. Тверь | H4: Заключение специалистов о профессиональной деятельности на социального педагога | L4: формулы для названия ЭЗ: | O4: первая | P4: высшая | R4: #ЭЗ
E5: =VLOOKUP(A103,$A$102:$H$114,$B$4+1) -> г. Вышний Волочек | L5: =IF(L21="учителя",M23,M24) -> на учителя основной и старшей ступени среднего полного общего образования с учетом результатов основного государственного экзамена (ОГЭ) и единого государственного экзамена (ЕГЭ) | O5: =IF($L$21="учителя",O23,O24) -> 920 | P5: =IF($L$21="учителя",P23,P24) -> 1710 | R5: =IF(I22=N13,IF(AND(I23="нет",I24="да"),4,VLOOKUP(L7,Q8:R11,2)),5) -> 3
E6: =VLOOKUP(A104,$A$102:$H$114,$B$4+1) -> г. Торжок
E7: =VLOOKUP(A105,$A$102:$H$114,$B$4+1) -> Бологовский район | L7: =CONCATENATE(L8,L9,L10,L11) -> с учетом результатов основного государственного экзамена (ОГЭ) и единого государственного экзамена (ЕГЭ) | O7: первая | P7: высшая
E8: =VLOOKUP(A106,$A$102:$H$114,$B$4+1) -> Вышневолоцкий район | L8: =IF(AND($I$23="нет",$I$24="нет"),Q8,"") | N8: без ОГЭ и ЕГЭ | O8: =O10-100 -> 820 | P8: =P10-200 -> 1510 | Q8: без учета результатов основного государственного экзамена (ОГЭ) и единого государственного экзамена (ЕГЭ) | R8: 1
E9: =VLOOKUP(A107,$A$102:$H$114,$B$4+1) -> Калининский район | L9: =IF(AND($I$23="да",$I$24="нет"),Q9,"") | N9: с ОГЭ | O9: =O11 -> 870 | P9: =P11 -> 1610 | Q9: с учетом результатов основного государственного экзамена (ОГЭ) | R9: 2
E10: =VLOOKUP(A108,$A$102:$H$114,$B$4+1) -> Конаковский район | L10: =IF(AND($I$23="да",$I$24="да"),Q10,"") -> с учетом результатов основного государственного экзамена (ОГЭ) и единого государственного экзамена (ЕГЭ) | N10: с ОГЭ и ЕГЭ | O10: 920 | P10: 1710 | Q10: с учетом результатов основного государственного экзамена (ОГЭ) и единого государственного экзамена (ЕГЭ) | R10: 3
E11: =VLOOKUP(A109,$A$102:$H$114,$B$4+1) -> Кувшиновский район | L11: =IF(AND($I$23="нет",$I$24="да"),Q11,"") | N11: с ЕГЭ | O11: =O10-50 -> 870 | P11: =P10-100 -> 1610 | Q11: с учетом результатов единого государственного экзамена (ЕГЭ) | R11: 4
E12: =VLOOKUP(A110,$A$102:$H$114,$B$4+1) -> Лихославльский район | L12: формула расч.кол-во ГИА-ЕГЭ "да" --> | M12: =COUNTIF(I23:I24,"да") -> 2
E13: =VLOOKUP(A111,$A$102:$H$114,$B$4+1) -> Спировский район | N13: основное | Q13: учителя
E14: =VLOOKUP(A112,$A$102:$H$114,$B$4+1) -> Торжокский район | N14: уч. ИЗО | O14: 750 | P14: 1510 | Q14: учителя изобразительного искусства | R14: изобразительного искусства
E15: =VLOOKUP(A113,$A$102:$H$114,$B$4+1) -> Удомельский район | N15: уч. музыки | O15: 710 | P15: 1450 | Q15: учителя музыки | R15: музыки
E16: =VLOOKUP(A114,$A$102:$H$114,$B$4+1) -> Фировский район | N16: уч. МХК | O16: 820 | P16: 1510 | Q16: учителя мировой художественной культуры | R16: мировой художественной культуры
E17: =VLOOKUP(A115,$A$102:$H$115,$B$4+1) -> ЗАТО Озерный
E18: =VLOOKUP(A116,$A$102:$H$116,$B$4+1) -> 0
N19: уч. ОБЖ | O19: 800 | P19: 1460 | Q19: учителя основ безопасности жизнедеятельности | R19: основ безопасности жизнедеятельности
A20: Информация для выбора ЭЗ | N20: уч. технологии | O20: 840 | P20: 1640 | Q20: учителя технологии | R20: технологии
L21: =VLOOKUP($I$22,$N$13:$Q$21,4) -> учителя | N21: уч. физ-ры | O21: 870 | P21: 1580 | Q21: учителя физической культуры | R21: физической культуры
G22: Вид ЭЗ: | I22: основное | L22: основной и старшей ступени среднего полного общего образования | O22: без учета результатов государственной итоговой аттестации (ГИА) и единого государственного экзамена (ЕГЭ)
A23: Работа в межаттестационный период в выпускных классах (в 9 кл. - ОГЭ, 11кл. - ЕГЭ) : | G23: 9 кл. | I23: да | L23: название ЭЗ -1 основное | M23: ="на "&L21&" "&L22&" "&L7 -> на учителя основной и старшей ступени среднего полного общего образования с учетом результатов основного государственного экзамена (ОГЭ) и единого государственного экзамена (ЕГЭ) | O23: =HLOOKUP(O7,N7:Q11,M12+2) -> 920 | P23: =HLOOKUP(P7,O7:R11,M12+2) -> 1710
G24: 11 кл. | I24: да | L24: название ЭЗ -2 предмет. | M24: ="на "&L21&" "&L22&" "&O22 -> на учителя основной и старшей ступени среднего полного общего образования без учета результатов государственной итоговой аттестации (ГИА) и единого государственного экзамена (ЕГЭ) | O24: =VLOOKUP($I$22,$N$13:$P$21,2) -> 0 | P24: =VLOOKUP($I$22,$N$13:$P$21,3) -> 0
A27: Общие сведения об аттестуемом педагогическом работнике:
L28: для листа ЭЗ | M28: без пробелов | N28: ФИО с инициалами
A29: Фамилия, имя, отчество | L29: =IF(LEN(M29)>40,N29,M29) | M29: =PROPER(TRIM(C29)) | N29: =IF(M29="","",LEFT(M29,(FIND(" ",M29)+1))&"."&MID(M29,FIND(" ",M29,FIND(" ",M29)+1)+1,1)&".") | P29: =LEN(C29) -> 0
A31: Муниципальное образование
A33: Место работы | L33: =LEN(C33) -> 0 | M33: =TRIM(C33) | R33: математики
L34: =LEN(B34) -> 0 | M34: =TRIM(B34) | R34: физики
L35: =LEN(B35) -> 0 | M35: =TRIM(B35) | R35: химии
A36: Должность | C36: социальный педагог | I36: =IF(OR(специал_ОС="",I22=N13),"",IF(VLOOKUP($I$22,$N$13:$R$21,5)=специал_ОС,""," Внимание! Не совпадает с видом ЭЗ: ")) | L36: =LOWER(TRIM(C36)) -> социальный педагог | M36: =LEN(L37) -> 19 | R36: биологии
A37: =L38 -> - | I37: =IF(специал_ОС="","",IF(VLOOKUP($I$22,$N$13:$R$21,5)=специал_ОС,"",VLOOKUP($I$22,$N$13:$R$21,5))) | L37: =IF(C36="",LOWER(TRIM(C37)),L36&" "&LOWER(TRIM(C37))) -> социальный педагог | M37: =IF(C36="",0,1) -> 1 | R37: информатики и ИКТ
B38: =IF(A37="-",IF(C36="","укажите должность, если она отсутствует в предложенном списке в строке 'Должность' ",""),"укажите специализацию преподавателя") | L38: =IF(C36="","-",IF(VLOOKUP(C36,A120:C154,3)="v","Специализация","-")) -> - | R38: русского языка и литературы
A40: =IF(OR(C36<>"",C37<>""),"В ЭЗ будет указана должность: ","") -> В ЭЗ будет указана должность: | C40: =L37 -> социальный педагог
A42: Образование
A43: Образовательная организация
A44: Год окончания
A45: Специальность
A46: =IF(D46="","","В ЭЗ будет указана квалификация:") -> В ЭЗ будет указана квалификация: | D46: =IF(C36<>"",ЗС!BG32,"") -> социального педагога
A49: Стаж педагогической работы | E49: года
...

Sheet ЗС
C1: Перейти на лист "общие сведения" | AE1: в конец ЗС | BJ1: оставить строку пустой, сортировать К2:N30 | BK1: д.б. до 30
A2: Заключение специалистов о профессиональной деятельности | BG2: ='общие сведения'!A121 -> воспитатель | BI2: ='общие сведения'!D121 -> воспитателя | BK2: =LEN(BI2) -> 11
BG3: ='общие сведения'!A122 -> воспитатель группы продленного дня | BI3: ='общие сведения'!D122 -> воспитателя ГПД | BK3: =LEN(BI3) -> 15
A4: на социального педагога | BG4: ='общие сведения'!A123 -> дефектолог | BI4: ='общие сведения'!D123 -> дефектолога | BK4: =LEN(BI4) -> 11
BG5: ='общие сведения'!A124 -> инструктор по труду | BI5: ='общие сведения'!D124 -> инструктора по труду | BK5: =LEN(BI5) -> 20
BG6: ='общие сведения'!A125 -> инструктор по физической культуре | BI6: ='общие сведения'!D125 -> инструктора по физ. культуре | BK6: =LEN(BI6) -> 28
A7: Общие сведения об аттестуемом педагогическом работнике: | BG7: ='общие сведения'!A126 -> инструктор по физическому воспитанию | BI7: ='общие сведения'!D126 -> инструктора по физ.воспитанию | BK7: =LEN(BI7) -> 29
BG8: ='общие сведения'!A127 -> инструктор-методист | BI8: ='общие сведения'!D127 -> инструктора-методиста | BK8: =LEN(BI8) -> 21
A9: Фамилия, имя, отчество | O9: =IF('общие сведения'!C29<>"",PROPER(TRIM('общие сведения'!C29)),"") | BG9: ='общие сведения'!A128 -> концертмейстер | BI9: ='общие сведения'!D128 -> концертмейстера | BK9: =LEN(BI9) -> 15
A10: Место работы | J10: =IF($O$9="","",'общие сведения'!M33) | BG10: ='общие сведения'!A129 -> логопед | BI10: ='общие сведения'!D129 -> логопеда | BK10: =LEN(BI10) -> 8
D11: =IF($O$9="","",'общие сведения'!M34) | BG11: ='общие сведения'!A130 -> мастер производственного обучения | BI11: ='общие сведения'!D130 -> мастера п./о. | BK11: =LEN(BI11) -> 13
D12: =IF($O$9="","",'общие сведения'!M35) | BG12: ='общие сведения'!A131 -> методист | BI12: ='общие сведения'!D131 -> методиста | BK12: =LEN(BI12) -> 9
A13: Должность | J13: =IF(O9="","",'общие сведения'!C40) | BG13: ='общие сведения'!A132 -> музыкальный руководитель | BI13: ='общие сведения'!D132 -> музыкального руководителя | BK13: =LEN(BI13) -> 25
A14: Муниципальное образование | Q14: =IF(O9="","",IF('общие сведения'!D31="муниципальный район",'общие сведения'!G31,'общие сведения'!D31)) | AK14: =IF(O9="","",IF('общие сведения'!D31="муниципальный район",'общие сведения'!D31,'общие сведения'!G31)) | BG14: ='общие сведения'!A133 -> педагог | BI14: ='общие сведения'!D133 -> педагога | BK14: =LEN(BI14) -> 8
A15: Стаж педагогической работы | Q15: =IF(FIO="","",'общие сведения'!D49) | U15: =IF(O9="","",'общие сведения'!E49) | BG15: ='общие сведения'!A134 -> педагог дополнительного образования | BI15: ='общие сведения'!D134 -> педагога доп. образования | BK15: =LEN(BI15) -> 25
A16: Наличие квалификационной категории | X16: =IF(O9<>"",'общие сведения'!D53,"") | AE16: дата присвоения | AO16: =IF(OR('общие сведения'!I53="",X16=""),"",'общие сведения'!I53) | BG16: ='общие сведения'!A135 -> педагог-организатор | BI16: ='общие сведения'!D135 -> педагога-организатора | BK16: =LEN(BI16) -> 21
A17: Заявленная квалификационная категория | X17: =IF(O9<>"",'общие сведения'!D55,"") | BG17: ='общие сведения'!A136 -> педагог-психолог | BI17: ='общие сведения'!D136 -> педагога-психолога | BK17: =LEN(BI17) -> 18
BG18: ='общие сведения'!A137 -> преподаватель | BI18: ='общие сведения'!D137 -> преподавателя | BK18: =LEN(BI18) -> 13
A19: Показатели профессиональной компетентности при аттестации на первую и высшую квалификационные категории педагогических работников | BG19: ='общие сведения'!A138 -> преподаватель-организатор | BI19: ='общие сведения'!D138 -> преподавателя-организатора | BK19: =LEN(BI19) -> 27
BG20: ='общие сведения'!A139 -> психолог | BI20: ='общие сведения'!D139 -> психолога | BK20: =LEN(BI20) -> 9
A21: Приказ Министерства просвещения Российской Федерации от 14 марта 2023 г. № 196 «Об утверждении Порядка проведения аттестации педагогических работников организаций, осуществляющих образовательную деятельность» (далее - Порядок аттестации) | BG21: ='общие сведения'!A140 -> руководитель физ.воспитания | BI21: ='общие сведения'!D140 -> руководителя физ. воспитания | BK21: =LEN(BI21) -> 28
BG22: ='общие сведения'!A141 -> социальный педагог | BI22: ='общие сведения'!D141 -> социального педагога | BK22: =LEN(BI22) -> 20
BG23: ='общие сведения'!A142 -> старший воспитатель | BI23: ='общие сведения'!D142 -> старшего воспитателя | BK23: =LEN(BI23) -> 20
A24: 1. | D24: Продуктивность образовательной деятельности | BG24: ='общие сведения'!A143 -> тренер | BI24: ='общие сведения'!D143 -> тренера | BK24: =LEN(BI24) -> 7
B25: Первая и высшая квалификационные категории устанавливаются педагогическим работникам на основе: | BG25: ='общие сведения'!A144 -> тренер-преподаватель | BI25: ='общие сведения'!D144 -> тренера-преподавателя | BK25: =LEN(BI25) -> 21
B26: - | C26: стабильных положительных результатов освоения обучающимися образовательных программ по итогам мониторингов, проводимых организацией, а также по итогам мониторинга системы образования, проводимого в порядке, установленном постановлением Правительства Российской Федерации от 5 августа 2013 г. № 662 (п. 35 Порядка аттестации); | BG26: ='общие сведения'!A145 -> учитель | BI26: ='общие сведения'!D145 -> учителя | BK26: =LEN(BI26) -> 7
BG27: ='общие сведения'!A146 -> учитель-дефектолог | BI27: ='общие сведения'!D146 -> учителя-дефектолога | BK27: =LEN(BI27) -> 19
BG28: ='общие сведения'!A147 -> учитель-логопед | BI28: ='общие сведения'!D147 -> учителя-логопеда | BK28: =LEN(BI28) -> 16
BG29: ='общие сведения'!A148 -> 0 | BI29: ='общие сведения'!D148 -> 0 | BK29: =LEN(BI29) -> 1
B30: - | C30: положительной динамики результатов освоения образовательных программ по итогам мониторингов, проводимых организацией, а также положительных результатов освоения образовательных программ по итогам мониторинга системы образования, проводимого в порядке,установленном постановлением Правительства Российской Федерации от 5 августа 2013 г. № 662 (п. 36 Порядка аттестации). | BG30: ='общие сведения'!A149 -> 0 | BI30: ='общие сведения'!D149 -> 0 | BK30: =LEN(BI30) -> 1
BG31: ='общие сведения'!A150 -> 0 | BI31: ='общие сведения'!D150 -> 0 | BK31: =LEN(BI31) -> 1
BG32: =IF(OR('общие сведения'!L36=""),"Ошибка !",VLOOKUP('общие сведения'!L36,BG1:BJ31,3)) -> социального педагога | BI32: =LEN(BG32) -> 20
BG33: =IF(ISERR(FIND(LEFT(BG32,5),J13)),0,1) -> 0
A34: № п/п | D34: Показатели | X34: Подтверждающие документы | AH34: Количество баллов
AH35: (баллы не суммируются)
AH36: 0 | AP36: 50 | AX36: 100
A37: 1.1. | D37: Результаты деятельности по социальному развитию (адаптации) обучающихся/ воспитанников по итогам мониторингов, проводимых организацией | X37: документы, отра- жающие резуль- таты социального развития (адапта- ции) обучающихся/ воспитанников | AH37: Уровень эффективности деятельности по социальному развитию обуч./ воспитанников
AH39: Отрицательная динамика | AP39: Отсутствие динамики | AX39: Положительная динамика
AH42: =IF(AND(AP42="",AX42=""),IF(FIO="","",0),"") | BG42: =MAX(AH42:BE43) -> 0 | BH42: 100
A44: 1.2. | D44: Результаты деятельности по социальному развитию (адаптации) обучающихся/ воспитанников по итогам мониторинга системы образования | X44: документы, отра- жающие резуль- таты социального развития (адапта- ции) обучающихся/ воспитанников | AH44: Уровень эффективности деятельности по социальному развитию обуч./ воспитанников
...

Sheet ЭЗ предм
C1: Перейти на лист "общие сведения" | AE1: в конец ЭЗ | AX1: ЭЗ - август 2014г. | BJ1: оставить строку пустой, сортировать К2:N30 | BK1: д.б. до 30
A2: Экспертное заключение | BG2: ='общие сведения'!A121 -> воспитатель | BI2: ='общие сведения'!D121 -> воспитателя | BK2: =LEN(BI2) -> 11
BG3: ='общие сведения'!A122 -> воспитатель группы продленного дня | BI3: ='общие сведения'!D122 -> воспитателя ГПД | BK3: =LEN(BI3) -> 15
A4: ='общие сведения'!L5 -> на учителя основной и старшей ступени среднего полного общего образования с учетом результатов основного государственного экзамена (ОГЭ) и единого государственного экзамена (ЕГЭ) | BG4: ='общие сведения'!A123 -> дефектолог | BI4: ='общие сведения'!D123 -> дефектолога | BK4: =LEN(BI4) -> 11
BG5: ='общие сведения'!A124 -> инструктор по труду | BI5: ='общие сведения'!D124 -> инструктора по труду | BK5: =LEN(BI5) -> 20
BG6: ='общие сведения'!A125 -> инструктор по физической культуре | BI6: ='общие сведения'!D125 -> инструктора по физ. культуре | BK6: =LEN(BI6) -> 28
A7: Общие сведения об аттестуемом педагогическом работнике: | BG7: ='общие сведения'!A126 -> инструктор по физическому воспитанию | BI7: ='общие сведения'!D126 -> инструктора по физ.воспитанию | BK7: =LEN(BI7) -> 29
BG8: ='общие сведения'!A127 -> инструктор-методист | BI8: ='общие сведения'!D127 -> инструктора-методиста | BK8: =LEN(BI8) -> 21
A9: Фамилия, имя, отчество | O9: =IF('общие сведения'!C29<>"",PROPER(TRIM('общие сведения'!C29)),"") | BG9: ='общие сведения'!A128 -> концертмейстер | BI9: ='общие сведения'!D128 -> концертмейстера | BK9: =LEN(BI9) -> 15
A10: Место работы | J10: =IF($O$9="","",'общие сведения'!M33) | BG10: ='общие сведения'!A129 -> логопед | BI10: ='общие сведения'!D129 -> логопеда | BK10: =LEN(BI10) -> 8
D11: =IF($O$9="","",'общие сведения'!M34) | BG11: ='общие сведения'!A130 -> мастер производственного обучения | BI11: ='общие сведения'!D130 -> мастера п./о. | BK11: =LEN(BI11) -> 13
D12: =IF($O$9="","",'общие сведения'!M35) | BG12: ='общие сведения'!A131 -> методист | BI12: ='общие сведения'!D131 -> методиста | BK12: =LEN(BI12) -> 9
A13: Должность | J13: =IF(O9="","",'общие сведения'!C40) | BG13: ='общие сведения'!A132 -> музыкальный руководитель | BI13: ='общие сведения'!D132 -> музыкального руководителя | BK13: =LEN(BI13) -> 25
A14: Муниципальное образование | Q14: =IF(O9="","",IF('общие сведения'!D31="муниципальный район",'общие сведения'!G31,'общие сведения'!D31)) | AK14: =IF(O9="","",IF('общие сведения'!D31="муниципальный район",'общие сведения'!D31,'общие сведения'!G31)) | BG14: ='общие сведения'!A133 -> педагог | BI14: ='общие сведения'!D133 -> педагога | BK14: =LEN(BI14) -> 8
A15: Стаж педагогической работы | Q15: =IF(FIO="","",'общие сведения'!D49) | U15: =IF(O9="","",'общие сведения'!E49) | BG15: ='общие сведения'!A134 -> педагог дополнительного образования | BI15: ='общие сведения'!D134 -> педагога доп. образования | BK15: =LEN(BI15) -> 25
A16: Наличие квалификационной категории | X16: =IF(O9<>"",'общие сведения'!D53,"") | AE16: дата присвоения | AO16: =IF(OR('общие сведения'!I53="",X16=""),"",'общие сведения'!I53) | BG16: ='общие сведения'!A135 -> педагог-организатор | BI16: ='общие сведения'!D135 -> педагога-организатора | BK16: =LEN(BI16) -> 21
A17: Заявленная квалификационная категория | X17: =IF(O9<>"",'общие сведения'!D55,"") | BG17: ='общие сведения'!A136 -> педагог-психолог | BI17: ='общие сведения'!D136 -> педагога-психолога | BK17: =LEN(BI17) -> 18
BG18: ='общие сведения'!A137 -> преподаватель | BI18: ='общие сведения'!D137 -> преподавателя | BK18: =LEN(BI18) -> 13
A19: Показатели профессиональной компетентности при аттестации на первую и высшую квалификационные категории педагогических работников | BG19: ='общие сведения'!A138 -> преподаватель-организатор | BI19: ='общие сведения'!D138 -> преподавателя-организатора | BK19: =LEN(BI19) -> 27
BG20: ='общие сведения'!A139 -> психолог | BI20: ='общие сведения'!D139 -> психолога | BK20: =LEN(BI20) -> 9
A21: (Приказ Министерства образования и науки РФ от 7 апреля 2014 г. № 276 «Об утверждении Порядка проведения аттестации педагогических работников организаций, осуществляющих образовательную деятельность») | BG21: ='общие сведения'!A140 -> руководитель физ.воспитания | BI21: ='общие сведения'!D140 -> руководителя физ. воспитания | BK21: =LEN(BI21) -> 28
BG22: ='общие сведения'!A141 -> социальный педагог | BI22: ='общие сведения'!D141 -> социального педагога | BK22: =LEN(BI22) -> 20
BG23: ='общие сведения'!A142 -> старший воспитатель | BI23: ='общие сведения'!D142 -> старшего воспитателя | BK23: =LEN(BI23) -> 20
A24: 1. | D24: Продуктивность образовательной деятельности | BG24: ='общие сведения'!A143 -> тренер | BI24: ='общие сведения'!D143 -> тренера | BK24: =LEN(BI24) -> 7
B25: Первая и высшая квалификационные категории устанавливаются педагогическим работникам на основе: | BG25: ='общие сведения'!A144 -> тренер-преподаватель | BI25: ='общие сведения'!D144 -> тренера-преподавателя | BK25: =LEN(BI25) -> 21
B26: - | C26: стабильных положительных результатов освоения обучающимися образовательных программ по итогам мониторингов, проводимых организацией, а также по итогам мониторинга системы образования, проводимого в порядке, установленном постановлением Правительства Российской Федерации от 5 августа 2013 г. № 662 (п. 36 Порядка аттестации); | BG26: ='общие сведения'!A145 -> учитель | BI26: ='общие сведения'!D145 -> учителя | BK26: =LEN(BI26) -> 7
BG27: ='общие сведения'!A146 -> учитель-дефектолог | BI27: ='общие сведения'!D146 -> учителя-дефектолога | BK27: =LEN(BI27) -> 19
BG28: ='общие сведения'!A147 -> учитель-логопед | BI28: ='общие сведения'!D147 -> учителя-логопеда | BK28: =LEN(BI28) -> 16
BG29: ='общие сведения'!A148 -> 0 | BI29: ='общие сведения'!D148 -> 0 | BK29: =LEN(BI29) -> 1
B30: - | C30: положительной динамики результатов освоения образовательных программ по итогам мониторингов, проводимых организацией, а также положительных результатов освоения образовательных программ по итогам мониторинга системы образования, проводимого в порядке, установленном постановлением Правительства Российской Федерации от 5 августа 2013 г. № 662 (п. 37 Порядка аттестации). | BG30: ='общие сведения'!A149 -> 0 | BI30: ='общие сведения'!D149 -> 0 | BK30: =LEN(BI30) -> 1
BG31: ='общие сведения'!A150 -> 0 | BI31: ='общие сведения'!D150 -> 0 | BK31: =LEN(BI31) -> 1
BG32: =IF(OR('общие сведения'!L36=""),"Ошибка !",VLOOKUP('общие сведения'!L36,BG1:BJ31,3)) -> социального педагога | BI32: =LEN(BG32) -> 20
BG33: =IF(ISERR(FIND(LEFT(BG32,5),J13)),0,1) -> 0
A35: № п/п | D35: Показатели | X35: Подтверждающие документы | AH35: Количество баллов | BH35: Сум. макс.
AH36: (баллы не суммируются) | BG36: ФОРМУЛЫ | BI36: *
AH37: 0 | AP37: 50-100 | AX37: 70-120 | BI37: 1. итого = | BJ37: =SUM(BG38:BG85) -> 0
A38: 1.1. | D38: Результаты освоения обучающимися образовательных программ по итогам мониторингов, проводимых организацией (качество знаний с учетом статуса образовательной организации - см. Приложение 1) | X38: Диаграммы, графи- ки и др.документы, отражающие ре- зультаты освоения обучающимися образовательных программ | AH38: Уровень освоения обучающимися образовательных программ
AH40: Низкий | AP40: Средний - 50б. | AX40: Высокий - 100б.
BH42: max | BI42: *
AH43: =IF(AND(AP43="",AX43=""),IF(FIO="","",0),"") | BG43: =MAX(AH43:BE44) -> 0 | BH43: 100
...

Sheet КТ
A1: Единый квалификационный справочник должностей руководителей, специалистов и служащих (Приложение к приказу Министерства здравоохранения и социального развития Российской Федерации от 26 августа 2010 г. №761н)
A4: Квалификационные характеристики должностей работников образования
A7: Социальный педагог Должностные обязанности. Осуществляет комплекс мероприятий по воспитанию, образованию, развитию и социальной защите личности в учреждениях, организациях и по месту жительства обучающихся (воспитанников, детей). Изучает особенности личности обучающихся (воспитанников, детей) и их микросреды, условия их жизни. Выявляет интересы и потребности, трудности и проблемы, конфликтные ситуации, отклонения в поведении обучающихся (воспитанников, детей) и своевременно оказывает им социальную помощь и поддержку. Выступает посредником между обучающимися (воспитанниками, детьми) и учреждением, организацией, семьей, средой, специалистами различных социальных служб, ведомств и административных органов. Определяет задачи, формы, методы социально-педагогической работы с обучающимися (воспитанниками, детьми), способы решения личных и социальных проблем, используя современные образовательные технологии, включая информационные, а также цифровые образовательные ресурсы. Принимает меры по социальной защите и социальной помощи, реализации прав и свобод личности обучающихся (воспитанников, детей). Организует различные виды социально значимой деятельности обучающихся (воспитанников, детей) и взрослых, мероприятия, направленные на развитие социальных инициатив, реализацию социальных проектов и программ, участвует в их разработке и утверждении. Способствует установлению гуманных, нравственно здоровых отношений в социальной среде. Содействует созданию обстановки психологического комфорта и безопасности личности обучающихся (воспитанников, детей), обеспечивает охрану их жизни и здоровья. Организует разнообразные виды деятельности обучающихся (воспитанников, детей), ориентируясь на особенности их личности, развитие их мотивации к соответствующим видам деятельности, познавательных интересов, способностей, используя компьютерные технологии, в т.ч. текстовые редакторы и электронные таблицы в своей деятельности. Участвует в организации их самостоятельной деятельности, в том числе исследовательской. Обсуждает с обучающимися (воспитанниками, детьми) актуальные события современности. Участвует в осуществлении работы по трудоустройству, патронату, обеспечению жильем, пособиями, пенсиями, оформлению сберегательных вкладов, использованию ценных бумаг обучающихся (воспитанников, детей) из числа сирот и оставшихся без попечения родителей. Взаимодействует с учителями, родителями (лицами, их заменяющими), специалистами социальных служб, семейных и молодежных служб занятости, с благотворительными организациями и др. в оказании помощи обучающимся (воспитанникам, детям), нуждающимся в опеке и попечительстве, с ограниченными физическими возможностями, девиантным поведением, а также попавшим в экстремальные ситуации. Участвует в работе педагогических, методических советов, в других формах методической работы, в подготовке и проведении родительских собраний, оздоровительных, воспитательных и других мероприятий, предусмотренных образовательной программой, в организации и проведении методической и консультативной помощи родителям (лицам, их заменяющих) обучающихся (воспитанников, детей). Обеспечивает охрану жизни и здоровья обучающихся (воспитанников, детей) во время образовательного процесса. Выполняет правила по охране труда и пожарной безопасности. Должен знать: приоритетные направления развития образовательной системы Российской Федерации; законы и иные нормативные правовые акты, регламентирующие образовательную деятельность; Конвенцию о правах ребенка; основы социальной политики, права и государственного строительства, трудового и семейного законодательства; общую и социальную педагогику; педагогическую, социальную, возрастную и детскую психологию; основы здоровьесбережения и организации здорового образа жизни, социальной гигиены; социально-педагогические и диагностические методики; методы и способы использования образовательных технологий, в том числе дистанционных; методы формирования основных составляющих компетентности (профессиональной, коммуникативной, информационной, правовой); современные педагогические технологии: продуктивного, дифференцированного обучения, реализации компетентностного подхода, развивающего обучения; основы работы с персональным компьютером, с электронной почтой и браузерами, мультимедийным оборудованием; методы убеждения, аргументации своей позиции, установления контактов с обучающимися (воспитанниками, детьми) разного возраста, их родителями (лицами, их заменяющими), коллегами по работе; технологии диагностики причин конфликтных ситуаций, их профилактики и разрешения; социально-педагогической диагностики (опросов, индивидуальных и групповых интервью), навыки социально-педагогической коррекции, снятия стрессов и т.п.; правила внутреннего трудового распорядка образовательного учреждения; правила по охране труда и пожарной безопасности. Требования к квалификации. Высшее профессиональное образование или среднее профессиональное образование по направлениям подготовки "Образование и педагогика", "Социальная педагогика" без предъявления требований к стажу работы.
