Workbook
Name _72ч: 'общие сведения'!$A$160
Name _ftn1: ЗС!#REF!
Name _ftn1: 'ЭЗ предм'!#REF!
Name _ftn2: ЗС!#REF!
Name _ftn2: 'ЭЗ предм'!#REF!
Name _ftnref1: ЗС!#REF!
Name _ftnref1: 'ЭЗ предм'!#REF!
Name _ftnref2: ЗС!#REF!
Name _ftnref2: 'ЭЗ предм'!#REF!
Name _дпо: 'общие сведения'!$A$167
Name _рек3: 'общие сведения'!$A$169
Name FIO: 'ЭЗ предм'!$O$9
Name FIO: ЗС!$O$9
Name proverka: 'ЭЗ предм'!$D$490
Name proverka: ЗС!$D$396
Name Аспирант_100: 'ЭЗ предм'!$AF$432
Name Аспирант_100: ЗС!#REF!
Name ВПО_ПП_0: 'ЭЗ предм'!$X$423
Name ВПО_ПП_0: ЗС!#REF!
Name Всего: 'ЭЗ предм'!$AN$442
Name Всего: ЗС!$AN$348
Name вывод1: 'общие сведения'!$F$69
Name год: 'общие сведения'!$H$97
Name датаПрисв_ОС: 'общие сведения'!$I$53
Name долж_ОС: 'общие сведения'!$C$36
Name ЗаявлКатег_ОС: 'общие сведения'!$D$55
Name катег_ОС: 'общие сведения'!$D$53
Name кол_ЭГ: 'общие сведения'!$F$86
Name Курсы_0: 'ЭЗ предм'!$X$418
Name Курсы_0: ЗС!#REF!
Name место_ОС: 'общие сведения'!$C$33
Name МуницОбр_ОС: 'общие сведения'!$G$31
Name порог_в: 'ЭЗ предм'!$X$440
Name порог_в: ЗС!$X$346
Name порог_п: 'ЭЗ предм'!$X$439
Name порог_п: ЗС!$X$345
Name рез_2: 'общие сведения'!$A$81
Name рез_3: 'общие сведения'!$A$82
Name рек_итог: 'общие сведения'!$M$161
Name рек_общ: 'общие сведения'!$M$160
Name рек2: 'общие сведения'!$I$76
Name рек3: 'общие сведения'!$I$79
Name специал_ОС: 'общие сведения'!$C$37
Name стаж_ОС: 'общие сведения'!$D$49
Name фио_1чл: 'общие сведения'!$C$90
Name фио_2чл: 'общие сведения'!$C$92
Name фио_3чл: 'общие сведения'!$C$94
Name фио_ОС: 'общие сведения'!$C$29
Name фио_предс: 'общие сведения'!$C$88
Name ы: 'общие сведения'!$C$37

Sheet общие сведения
A1: =A99 -> Введите данные в ячейки, выделенные цветом
I3: Приложение № 20 к приказу Министерства образования Тверской области от 23.08.2023 № 980/ПК | L3: школа
A4: Регион Тверской области | B4: 2 | E4: =VLOOKUP(A102,$A$102:$H$114,$B$4+1) -> г. Тверь | H4: Заключение специалистов о профессиональной деятельности на социального педагога | L4: формулы для названия ЭЗ: | O4: первая | P4: высшая | R4: #ЭЗ
E5: =VLOOKUP(A103,$A$102:$H$114,$B$4+1) -> г. Вышний Волочек | L5: =IF(L21="учителя",M23,M24) -> на учителя основной и старшей ступени среднего полного общего образования с учетом результатов основного государственного экзамена (ОГЭ) и единого государственного экзамена (ЕГЭ) | O5: =IF($L$21="учителя",O23,O24) -> 920 | P5: =IF($L$21="учителя",P23,P24) -> 1710 | R5: =IF(I22=N13,IF(AND(I23="нет",I24="да"),4,VLOOKUP(L7,Q8:R11,2)),5) -> 3
E6: =VLOOKUP(A104,$A$102:$H$114,$B$4+1) -> г. Торжок
E7: =VLOOKUP(A105,$A$102:$H$114,$B$4+1) -> Бологовский район | L7: =CONCATENATE(L8,L9,L10,L11) -> с учетом результатов основного государственного экзамена (ОГЭ) и единого государственного экзамена (ЕГЭ) | O7: первая | P7: высшая
E8: =VLOOKUP(A106,$A$102:$H$114,$B$4+1) -> Вышневолоцкий район | L8: =IF(AND($I$23="нет",$I$24="нет"),Q8,"") | N8: без ОГЭ и ЕГЭ | O8: =O10-100 -> 820 | P8: =P10-200 -> 1510 | Q8: без учета результатов основного государственного экзамена (ОГЭ) и единого государственного экзамена (ЕГЭ) | R8: 1
E9: =VLOOKUP(A107,$A$102:$H$114,$B$4+1) -> Калининский район | L9: =IF(AND($I$23="да",$I$24="нет"),Q9,"") | N9: с ОГЭ | O9: =O11 -> 870 | P9: =P11 -> 1610 | Q9: с учетом результатов основного государственного экзамена (ОГЭ) | R9: 2
E10: =VLOOKUP(A108,$A$102:$H$114,$B$4+1) -> Конаковский район | L10: =IF(AND($I$23="да",$I$24="да"),Q10,"") -> с учетом результатов основного государственного экзамена (ОГЭ) и единого государственного экзамена (ЕГЭ) | N10: с ОГЭ и ЕГЭ | O10: 920 | P10: 1710 | Q10: с учетом результатов основного государственного экзамена (ОГЭ) и единого государственного экзамена (ЕГЭ) | R10: 3
E11: =VLOOKUP(A109,$A$102:$H$114,$B$4+1) -> Кувшиновский район | L11: =IF(AND($I$23="нет",$I$24="да"),Q11,"") | N11: с ЕГЭ | O11: =O10-50 -> 870 | P11: =P10-100 -> 1610 | Q11: с учетом результатов единого государственного экзамена (ЕГЭ) | R11: 4
E12: =VLOOKUP(A110,$A$102:$H$114,$B$4+1) -> Лихославльский район | L12: формула расч.кол-во ГИА-ЕГЭ "да" --> | M12: =COUNTIF(I23:I24,"да") -> 2
E13: =VLOOKUP(A111,$A$102:$H$114,$B$4+1) -> Спировский район | N13: основное | Q13: учителя
E14: =VLOOKUP(A112,$A$102:$H$114,$B$4+1) -> Торжокский район | N14: уч. ИЗО | O14: 750 | P14: 1510 | Q14: учителя изобразительного искусства | R14: изобразительного искусства
E15: =VLOOKUP(A113,$A$102:$H$114,$B$4+1) -> Удомельский район | N15: уч. музыки | O15: 710 | P15: 1450 | Q15: учителя музыки | R15: музыки
E16: =VLOOKUP(A114,$A$102:$H$114,$B$4+1) -> Фировский район | N16: уч. МХК | O16: 820 | P16: 1510 | Q16: учителя мировой художественной культуры | R16: мировой художественной культуры
E17: =VLOOKUP(A115,$A$102:$H$115,$B$4+1) -> ЗАТО Озерный
E18: =VLOOKUP(A116,$A$102:$H$116,$B$4+1) -> 0
N19: уч. ОБЖ | O19: 800 | P19: 1460 | Q19: учителя основ безопасности жизнедеятельности | R19: основ безопасности жизнедеятельности
A20: Информация для выбора ЭЗ | N20: уч. технологии | O20: 840 | P20: 1640 | Q20: учителя технологии | R20: технологии
L21: =VLOOKUP($I$22,$N$13:$Q$21,4) -> учителя | N21: уч. физ-ры | O21: 870 | P21: 1580 | Q21: учителя физической культуры | R21: физической культуры
G22: Вид ЭЗ: | I22: основное | L22: основной и старшей ступени среднего полного общего образования | O22: без учета результатов государственной итоговой аттестации (ГИА) и единого государственного экзамена (ЕГЭ)
A23: Работа в межаттестационный период в выпускных классах (в 9 кл. - ОГЭ, 11кл. - ЕГЭ) : | G23: 9 кл. | I23: да | L23: название ЭЗ -1 основное | M23: ="на "&L21&" "&L22&" "&L7 -> на учителя основной и старшей ступени среднего полного общего образования с учетом результатов основного государственного экзамена (ОГЭ) и единого государственного экзамена (ЕГЭ) | O23: =HLOOKUP(O7,N7:Q11,M12+2) -> 920 | P23: =HLOOKUP(P7,O7:R11,M12+2) -> 1710
G24: 11 кл. | I24: да | L24: название ЭЗ -2 предмет. | M24: ="на "&L21&" "&L22&" "&O22 -> на учителя основной и старшей ступени среднего полного общего образования без учета результатов государственной итоговой аттестации (ГИА) и единого государственного экзамена (ЕГЭ) | O24: =VLOOKUP($I$22,$N$13:$P$21,2) -> 0 | P24: =VLOOKUP($I$22,$N$13:$P$21,3) -> 0
A27: Общие сведения об аттестуемом педагогическом работнике:
L28: для листа ЭЗ | M28: без пробелов | N28: ФИО с инициалами
A29: Фамилия, имя, отчество | L29: =IF(LEN(M29)>40,N29,M29) | M29: =PROPER(TRIM(C29)) | N29: =IF(M29="","",LEFT(M29,(FIND(" ",M29)+1))&"."&MID(M29,FIND(" ",M29,FIND(" ",M29)+1)+1,1)&".") | P29: =LEN(C29) -> 0
A31: Муниципальное образование
A33: Место работы | L33: =LEN(C33) -> 0 | M33: =TRIM(C33) | R33: математики
L34: =LEN(B34) -> 0 | M34: =TRIM(B34) | R34: физики
L35: =LEN(B35) -> 0 | M35: =TRIM(B35) | R35: химии
A36: Должность | C36: социальный педагог | I36: =IF(OR(специал_ОС="",I22=N13),"",IF(VLOOKUP($I$22,$N$13:$R$21,5)=специал_ОС,""," Внимание! Не совпадает с видом ЭЗ: ")) | L36: =LOWER(TRIM(C36)) -> социальный педагог | M36: =LEN(L37) -> 19 | R36: биологии
A37: =L38 -> - | I37: =IF(специал_ОС="","",IF(VLOOKUP($I$22,$N$13:$R$21,5)=специал_ОС,"",VLOOKUP($I$22,$N$13:$R$21,5))) | L37: =IF(C36="",LOWER(TRIM(C37)),L36&" "&LOWER(TRIM(C37))) -> социальный педагог | M37: =IF(C36="",0,1) -> 1 | R37: информатики и ИКТ
B38: =IF(A37="-",IF(C36="","укажите должность, если она отсутствует в предложенном списке в строке 'Должность' ",""),"укажите специализацию преподавателя") | L38: =IF(C36="","-",IF(VLOOKUP(C36,A120:C154,3)="v","Специализация","-")) -> - | R38: русского языка и литературы
A40: =IF(OR(C36<>"",C37<>""),"В ЭЗ будет указана должность: ","") -> В ЭЗ будет указана должность: | C40: =L37 -> социальный педагог
A42: Образование
A43: Образовательная организация
A44: Год окончания
A45: Специальность
A46: =IF(D46="","","В ЭЗ будет указана квалификация:") -> В ЭЗ будет указана квалификация: | D46: =IF(C36<>"",ЗС!BG32,"") -> социального педагога
A49: Стаж педагогической работы | E49: года
A50: Стаж работы в данной должности | E50: года
A51: Стаж работы в данной организации | E51: года
A53: Наличие квалификационной категории | F53: дата присвоения
A55: Заявленная квалификационная категория
A57: Информация о профессиональном развитии педагогического работника за межаттестационный период
A59: Окончание вуза/ суза менее 3-х лет назад (молодой специалист) | I59: год окончания:
A60: Обучение в вузе/ сузе (по направлению "Образование и педагогика") | G60: нет | I60: курс: | N60: 0
A63: Обучение в аспирантуре, соискательство | G63: нет | N63: 0
A64: Получение степени кандидата/доктора наук или звания доцента/профессора | G64: нет | I64: год получения: | N64: 0
A65: ="Курсы повышения квалификации " -> Курсы повышения квалификации
A66: Количество часов | E66: часов
A67: Образовательная организация
K68: Имена ячеек:
A69: Вывод: | B69: необходимо в ЭЗ дать рекомендации ? | F69: =IF(COUNTIF(G59:H67,"да"),"нет","да") -> да | K69: Вывод1
A70: =IF(вывод1="да",_72ч,"") -> В течение одного года пройти повышение квалификации в объеме не менее 108 часов с последующим обучением по накопительной системе в межаттестационный период.
A73: Информация о соответствии квалификационным требованиям
A75: Наличие/получение высшего или среднего профессионального образования по направлению "Образование и педагогика" либо дополнительного профессионального образования по направлению "Образование и педагогика"
K76: рек2
A78: Наличие/получение высшего или среднего профессионального образования в области, соответствующей преподаваемому предмету
I79: нет | K79: рек3
A80: Вывод: | B80: необходимо в ЭЗ дать рекомендации ? | F80: =IF(AND(J76="нет",рек3="нет"),"да","нет") -> нет
A81: =IF(AND(J76="нет",рек3="нет"),_дпо,"") | K81: рез_2
A82: =IF(рек3="нет",_рек3,"") | K82: рез_3
A84: Состав специалистов:
A86: Кол-во специалистов (без председателя)
A88: Председатель | L88: =IF(LEN(M88)>40,N88,M88) | M88: =PROPER(TRIM(C88)) | N88: =IF(M88="","",LEFT(M88,(FIND(" ",M88)+1))&"."&MID(M88,FIND(" ",M88,FIND(" ",M88)+1)+1,1)&".")
C89: Ф.И.О.
A90: Специалисты: | B90: 1) | L90: =IF(LEN(M90)>40,N90,M90) | M90: =PROPER(TRIM(C90)) | N90: =IF(M90="","",LEFT(M90,(FIND(" ",M90)+1))&"."&MID(M90,FIND(" ",M90,FIND(" ",M90)+1)+1,1)&".")
C91: Ф.И.О.
B92: =IF($F$86>1,"2)","") | L92: =IF(LEN(M92)>40,N92,M92) | M92: =PROPER(TRIM(C92)) | N92: =IF(M92="","",LEFT(M92,(FIND(" ",M92)+1))&"."&MID(M92,FIND(" ",M92,FIND(" ",M92)+1)+1,1)&".")
C93: Ф.И.О.
B94: =IF($F$86>2,"3)","") | L94: =IF(LEN(M94)>40,N94,M94) | M94: =PROPER(TRIM(C94)) | N94: =IF(M94="","",LEFT(M94,(FIND(" ",M94)+1))&"."&MID(M94,FIND(" ",M94,FIND(" ",M94)+1)+1,1)&".")
C95: Ф.И.О.
A97: Дата: | B97: « | D97: » | G97: 20 | I97: г.
A99: =IF(ЗС!A394<12,"Введите данные в ячейки, выделенные цветом","Все данные введены. Перейдите на лист ЭЗ") -> Введите данные в ячейки, выделенные цветом
B101: 1 | C101: 2 | D101: 3 | E101: 4 | F101: 5 | G101: 6 | H101: 7
A102: 1 | B102: г. Кимры | C102: г. Тверь | D102: г .Ржев | E102: Ивантеевка | F102: Дубна | G102: Домодедово | H102: Коломна
A103: 2 | B103: Бежецкий район | C103: г. Вышний Волочек | D103: Андреапольский район | E103: Звёздный | F103: Дмитровский | G103: Климовск | H103: Егорьевский
A104: 3 | B104: Весьегонский район | C104: г. Торжок | D104: Бельский район | E104: Королев | F104: Долгопрудный | G104: Ленинский | H104: Зарайский
A105: 4 | B105: Калязинский район | C105: Бологовский район | D105: Жарковский район | E105: Красноармейск | F105: Клинский | G105: Подольск | H105: Каширский
A106: 5 | B106: Кашинский район | C106: Вышневолоцкий район | D106: Западнодвинский район | E106: Лосино-Петровский | F106: Красногорский | G106: Подольский | H106: Коломенский
A107: 6 | B107: Кесовогорский район | C107: Калининский район | D107: Зубцовский район | E107: Мытищинский | F107: Лобня | G107: Протвино | H107: Луховицкий
A108: 7 | B108: Кимрский район | C108: Конаковский район | D108: Нелидовский район | E108: Пушкинский | F108: Солнечногорский | G108: Пущино | H108: Озерский
A109: 8 | B109: Краснохолмский район | C109: Кувшиновский район | D109: Оленинский район | E109: Сергиево-Посадский | F109: Талдомский | G109: Серпухов | H109: Серебряно-Прудский
A110: 9 | B110: Лесной район | C110: Лихославльский район | D110: Осташковский район | E110: Фрязино | F110: Химки | G110: Серпуховский | H110: Ступинский
A111: 10 | B111: Максатихинский район | C111: Спировский район | D111: Пеновский район | E111: Щелковский | G111: Чеховский
A112: 11 | B112: Молоковский район | C112: Торжокский район | D112: Ржевский район | E112: Юбилейный
A113: 12 | B113: Рамешковский район | C113: Удомельский район | D113: Селижаровский район
A114: 13 | B114: Сандовский район | C114: Фировский район | D114: Старицкий район
A115: 14 | B115: Сонковский район | C115: ЗАТО Озерный | D115: Торопецкий район
A116: 15 | D116: ЗАТО Солнечный
A118: Перейти на лист 'ЗС'
A119: Список должностей отсортирован по алфавиту | B119: наличие специализации | D119: квалификация в Род.падеже | H119: Длина в Р.п.
A121: воспитатель | D121: воспитателя | H121: =LEN(D121) -> 11
A122: воспитатель группы продленного дня | D122: воспитателя ГПД | H122: =LEN(D122) -> 15
A123: дефектолог | D123: дефектолога | H123: =LEN(D123) -> 11
A124: инструктор по труду | D124: инструктора по труду | H124: =LEN(D124) -> 20
A125: инструктор по физической культуре | D125: инструктора по физ. культуре | H125: =LEN(D125) -> 28
A126: инструктор по физическому воспитанию | D126: инструктора по физ.воспитанию | H126: =LEN(D126) -> 29
A127: инструктор-методист | D127: инструктора-методиста | H127: =LEN(D127) -> 21
...

Sheet ЗС
C1: Перейти на лист "общие сведения" | AE1: в конец ЗС | BJ1: оставить строку пустой, сортировать К2:N30 | BK1: д.б. до 30
A2: Заключение специалистов о профессиональной деятельности | BG2: ='общие сведения'!A121 -> воспитатель | BI2: ='общие сведения'!D121 -> воспитателя | BK2: =LEN(BI2) -> 11
BG3: ='общие сведения'!A122 -> воспитатель группы продленного дня | BI3: ='общие сведения'!D122 -> воспитателя ГПД | BK3: =LEN(BI3) -> 15
A4: на социального педагога | BG4: ='общие сведения'!A123 -> дефектолог | BI4: ='общие сведения'!D123 -> дефектолога | BK4: =LEN(BI4) -> 11
BG5: ='общие сведения'!A124 -> инструктор по труду | BI5: ='общие сведения'!D124 -> инструктора по труду | BK5: =LEN(BI5) -> 20
BG6: ='общие сведения'!A125 -> инструктор по физической культуре | BI6: ='общие сведения'!D125 -> инструктора по физ. культуре | BK6: =LEN(BI6) -> 28
A7: Общие сведения об аттестуемом педагогическом работнике: | BG7: ='общие сведения'!A126 -> инструктор по физическому воспитанию | BI7: ='общие сведения'!D126 -> инструктора по физ.воспитанию | BK7: =LEN(BI7) -> 29
BG8: ='общие сведения'!A127 -> инструктор-методист | BI8: ='общие сведения'!D127 -> инструктора-методиста | BK8: =LEN(BI8) -> 21
A9: Фамилия, имя, отчество | O9: =IF('общие сведения'!C29<>"",PROPER(TRIM('общие сведения'!C29)),"") | BG9: ='общие сведения'!A128 -> концертмейстер | BI9: ='общие сведения'!D128 -> концертмейстера | BK9: =LEN(BI9) -> 15
A10: Место работы | J10: =IF($O$9="","",'общие сведения'!M33) | BG10: ='общие сведения'!A129 -> логопед | BI10: ='общие сведения'!D129 -> логопеда | BK10: =LEN(BI10) -> 8
D11: =IF($O$9="","",'общие сведения'!M34) | BG11: ='общие сведения'!A130 -> мастер производственного обучения | BI11: ='общие сведения'!D130 -> мастера п./о. | BK11: =LEN(BI11) -> 13
D12: =IF($O$9="","",'общие сведения'!M35) | BG12: ='общие сведения'!A131 -> методист | BI12: ='общие сведения'!D131 -> методиста | BK12: =LEN(BI12) -> 9
A13: Должность | J13: =IF(O9="","",'общие сведения'!C40) | BG13: ='общие сведения'!A132 -> музыкальный руководитель | BI13: ='общие сведения'!D132 -> музыкального руководителя | BK13: =LEN(BI13) -> 25
A14: Муниципальное образование | Q14: =IF(O9="","",IF('общие сведения'!D31="муниципальный район",'общие сведения'!G31,'общие сведения'!D31)) | AK14: =IF(O9="","",IF('общие сведения'!D31="муниципальный район",'общие сведения'!D31,'общие сведения'!G31)) | BG14: ='общие сведения'!A133 -> педагог | BI14: ='общие сведения'!D133 -> педагога | BK14: =LEN(BI14) -> 8
A15: Стаж педагогической работы | Q15: =IF(FIO="","",'общие сведения'!D49) | U15: =IF(O9="","",'общие сведения'!E49) | BG15: ='общие сведения'!A134 -> педагог дополнительного образования | BI15: ='общие сведения'!D134 -> педагога доп. образования | BK15: =LEN(BI15) -> 25
A16: Наличие квалификационной категории | X16: =IF(O9<>"",'общие сведения'!D53,"") | AE16: дата присвоения | AO16: =IF(OR('общие сведения'!I53="",X16=""),"",'общие сведения'!I53) | BG16: ='общие сведения'!A135 -> педагог-организатор | BI16: ='общие сведения'!D135 -> педагога-организатора | BK16: =LEN(BI16) -> 21
A17: Заявленная квалификационная категория | X17: =IF(O9<>"",'общие сведения'!D55,"") | BG17: ='общие сведения'!A136 -> педагог-психолог | BI17: ='общие сведения'!D136 -> педагога-психолога | BK17: =LEN(BI17) -> 18
BG18: ='общие сведения'!A137 -> преподаватель | BI18: ='общие сведения'!D137 -> преподавателя | BK18: =LEN(BI18) -> 13
A19: Показатели профессиональной компетентности при аттестации на первую и высшую квалификационные категории педагогических работников | BG19: ='общие сведения'!A138 -> преподаватель-организатор | BI19: ='общие сведения'!D138 -> преподавателя-организатора | BK19: =LEN(BI19) -> 27
BG20: ='общие сведения'!A139 -> психолог | BI20: ='общие сведения'!D139 -> психолога | BK20: =LEN(BI20) -> 9
A21: Приказ Министерства просвещения Российской Федерации от 14 марта 2023 г. № 196 «Об утверждении Порядка проведения аттестации педагогических работников организаций, осуществляющих образовательную деятельность» (далее - Порядок аттестации) | BG21: ='общие сведения'!A140 -> руководитель физ.воспитания | BI21: ='общие сведения'!D140 -> руководителя физ. воспитания | BK21: =LEN(BI21) -> 28
BG22: ='общие сведения'!A141 -> социальный педагог | BI22: ='общие сведения'!D141 -> социального педагога | BK22: =LEN(BI22) -> 20
BG23: ='общие сведения'!A142 -> старший воспитатель | BI23: ='общие сведения'!D142 -> старшего воспитателя | BK23: =LEN(BI23) -> 20
A24: 1. | D24: Продуктивность образовательной деятельности | BG24: ='общие сведения'!A143 -> тренер | BI24: ='общие сведения'!D143 -> тренера | BK24: =LEN(BI24) -> 7
B25: Первая и высшая квалификационные категории устанавливаются педагогическим работникам на основе: | BG25: ='общие сведения'!A144 -> тренер-преподаватель | BI25: ='общие сведения'!D144 -> тренера-преподавателя | BK25: =LEN(BI25) -> 21
B26: - | C26: стабильных положительных результатов освоения обучающимися образовательных программ по итогам мониторингов, проводимых организацией, а также по итогам мониторинга системы образования, проводимого в порядке, установленном постановлением Правительства Российской Федерации от 5 августа 2013 г. № 662 (п. 35 Порядка аттестации); | BG26: ='общие сведения'!A145 -> учитель | BI26: ='общие сведения'!D145 -> учителя | BK26: =LEN(BI26) -> 7
BG27: ='общие сведения'!A146 -> учитель-дефектолог | BI27: ='общие сведения'!D146 -> учителя-дефектолога | BK27: =LEN(BI27) -> 19
BG28: ='общие сведения'!A147 -> учитель-логопед | BI28: ='общие сведения'!D147 -> учителя-логопеда | BK28: =LEN(BI28) -> 16
BG29: ='общие сведения'!A148 -> 0 | BI29: ='общие сведения'!D148 -> 0 | BK29: =LEN(BI29) -> 1
B30: - | C30: положительной динамики результатов освоения образовательных программ по итогам мониторингов, проводимых организацией, а также положительных результатов освоения образовательных программ по итогам мониторинга системы образования, проводимого в порядке,установленном постановлением Правительства Российской Федерации от 5 августа 2013 г. № 662 (п. 36 Порядка аттестации). | BG30: ='общие сведения'!A149 -> 0 | BI30: ='общие сведения'!D149 -> 0 | BK30: =LEN(BI30) -> 1
BG31: ='общие сведения'!A150 -> 0 | BI31: ='общие сведения'!D150 -> 0 | BK31: =LEN(BI31) -> 1
BG32: =IF(OR('общие сведения'!L36=""),"Ошибка !",VLOOKUP('общие сведения'!L36,BG1:BJ31,3)) -> социального педагога | BI32: =LEN(BG32) -> 20
BG33: =IF(ISERR(FIND(LEFT(BG32,5),J13)),0,1) -> 0
A34: № п/п | D34: Показатели | X34: Подтверждающие документы | AH34: Количество баллов
AH35: (баллы не суммируются)
AH36: 0 | AP36: 50 | AX36: 100
A37: 1.1. | D37: Результаты деятельности по социальному развитию (адаптации) обучающихся/ воспитанников по итогам мониторингов, проводимых организацией | X37: документы, отра- жающие резуль- таты социального развития (адапта- ции) обучающихся/ воспитанников | AH37: Уровень эффективности деятельности по социальному развитию обуч./ воспитанников
AH39: Отрицательная динамика | AP39: Отсутствие динамики | AX39: Положительная динамика
AH42: =IF(AND(AP42="",AX42=""),IF(FIO="","",0),"") | BG42: =MAX(AH42:BE43) -> 0 | BH42: 100
A44: 1.2. | D44: Результаты деятельности по социальному развитию (адаптации) обучающихся/ воспитанников по итогам мониторинга системы образования | X44: документы, отра- жающие резуль- таты социального развития (адапта- ции) обучающихся/ воспитанников | AH44: Уровень эффективности деятельности по социальному развитию обуч./ воспитанников
AH46: Отрицательная динамика | AP46: Отсутствие динамики | AX46: Положительная динамика
AH49: =IF(AND(AP49="",AX49=""),IF(FIO="","",0),"") | BG49: =MAX(AH49:BE50) -> 0 | BH49: 100
A52: 2. | D52: Продуктивность деятельности педагического работника по развитию учащихся
B53: Первая и высшая квалификационные категории устанавливаются педагогическим работникам на основе:
B54: - | C54: выявления развития у обучающихся способностей к научной (интеллектуальной), творческой, физкультурно-спортивной деятельности (п. 35 Порядка аттестации);
B56: - | C56: выявления и развития способностей обучающихся к научной (интеллектуальной), творческой, физкультурно-спортивной деятельности, а также их участия в олимпиадах, конкурсах, фестивалях, соревнованиях (п. 36 Порядка аттестации).
A59: № п/п | D59: Показатели | S59: Количество баллов
S60: (баллы суммируются)
A62: 2.1. | D62: Результаты участия воспитанников, обучающихся в в реализации социальных проектов и программ
S63: Не участвует | X63: Уровень обр.орг. | AD63: Муницип. уровень | AK63: Региональн. уровень | AR63: Федеральн. уровень
X65: 1-2проекта/ программы - 10б. 3-7проекта/ программы - 20б. 8 и более - 30б. | AD65: 1-2проекта/ программы- 30б. 3-7проекта/ программы - 40б. 8 и более - 50б. | AK65: 1-2проекта/ программы- 50б. 3-7проекта/ программы- 70б. 8 и более -100б. | AR65: 1-2проекта/ программы - 100б. 2-5проекта/ программы - 150б. 5 и более - 170б.
D66: Подтвержд. документы: грамоты, дипломы или др. документы подтверждающие участие в социальных проектах и программах
S67: 0 б.
S68: =IF(AND(X68="",AD68="",AK68="",AR68=""),IF(FIO="","",0),"") | BG68: =SUM(S68:BE69) -> 0 | BH68: 350
A70: 2.2. | D70: Результаты участия обучающихся в конкурсах профессионального мастерства, профессиональных олимпиадах | S70: Не участвует
AD71: Муницип. уровень | AK71: Региональн. уровень | AR71: Федеральн. уровень | AY71: Международ. уровень
AD73: победитель / призер | AK73: победитель / призер | AR73: победитель / призер | AY73: победитель / призер
D74: Баллы за участие даются только при отсутствии победителей и призеров. Подтверждающие документы: грамоты, дипломы или другие документы, подтверждающие победы, призовые места и участие
AD75: 1-2 чел. - 50б. 3- более - 70б. Участие - 20б. | AK75: 1-2 чел. - 70б. 3-и более - 100б. Участие - 30б. | AR75: 1-2 чел. - 100б. 3 и более - 150б. Участие - 70б. | AY75: 1 чел. - 150б. 2 и более - 200б. Участие -100б
BG76: =SUM(S76:BE77) -> 0 | BH76: 520
A78: 2.3. | D78: Результаты внеурочной деятельности обучающих- ся: | S78: Конкурсы, турниры, выставки и др.
S79: Не участвует | AD79: Муницип. уровень | AK79: Региональн. уровень | AR79: Федеральн. уровень
S81: 0 б. | AD81: победитель / призер | AK81: победитель / призер | AR81: победитель / призер
D82: - конкурсы, - турниры, - выставки и др.
AD83: 1-2 чел. - 30б. 3-более - 50б. | AK83: 1-2 чел. - 50б. 3-и более - 100б. | AR83: 1-2 чел. - 100б. 3-и более - 150б.
D84: Подтверждающие документы: грамоты, дипломы или другие документы, подтверждающие победы, призовые места и участие
AD85: Участие - 10б. | AK85: Участие - 30б. | AR85: Участие - 50б.
S86: =IF(AND(AD86="",AK86="",AR86=""),IF(FIO="","",0),"") | BG86: =SUM(S86:BE87) -> 0 | BH86: 300
A88: 2.4. | D88: Результаты научно-иссле-довательской, проектной деятельности обучающих- ся : | S88: Не участвует | AD88: Муницип. уровень | AK88: Региональн. уровень | AR88: Федеральн. уровень
S90: 0 б. | AD90: 1-2 чел.- 10б. 3-и более - 30б. | AK90: 1-2 чел- 50б. 3- и более -100б. | AR90: 1-2 чел - 100б. 3- и более - 150 б.
D91: научно-практические конфе- ренции, семинары и др. Подтверждающие документы: грамоты, дипломы или др. документы,подтверждающие участие в конф.,семинаре
S93: =IF(AND(AD93="",AK93="",AR93=""),IF(FIO="","",0),"") | BG93: =SUM(S93:BE94) -> 0 | BH93: 280
A96: № п/п | D96: Показатели | AB96: Количество баллов
AB97: (баллы не суммируются)
AB98: 0 | AL98: 50 | AV98: 70
A99: 2.5. | D99: Работа с обучающимися/воспитанниками из числа детей-сирот и оставшихся без попечения родителей | AB99: Не проводится | AL99: Проводится периодически или по запросу | AV99: Проводится системно, комплексно
D101: Подтверждающие документы: планы, отчеты и др. документы
AB102: =IF(AND(AL102="",AV102=""),IF(FIO="","",0),"") | BG102: =MAX(AB102:BE103) -> 0 | BH102: 70
A104: 2.6. | D104: Работа с обучающимися/ воспитанниками с ОВЗ, в том числе с с обучающимися/ воспитанниками «группы риска» | AB104: Не проводится | AL104: Проводится периодически или по запросу | AV104: Проводится системно, комплексно
D106: Подтверждающие документы:
D107: планы, отчеты и др. | AB107: =IF(AND(AL107="",AV107=""),IF(FIO="","",0),"") | BG107: =MAX(AB107:BE108) -> 0 | BH107: 70
A109: 2.7. | D109: Пропаганда здорового образа жизни среди участников образовательного процесса | AB109: Не проводится | AL109: Проводится периодически или по запросу | AV109: Проводится системно, комплексно
D111: Подтверждающие документы:
D112: планы, отчеты и др. | AB112: =IF(AND(AL112="",AV112=""),IF(FIO="","",0),"") | BG112: =MAX(AB112:BE113) -> 0 | BH112: 70
A115: № п/п | D115: Показатели | Y115: Количество баллов
Y116: (баллы не суммируются)
AD117: 0 | AR117: 70
A118: 2.8. | D118: Участие в деятельности комиссий по профилактике правонарушений, ПМПК, ПМПк | Y118: Подтверждающие документы: копии приказов, справки | AD118: не участвует | AR118: участвует
BI124: *
AD125: =IF(AND(AR125=""),IF(FIO="","",0),"") | BG125: =MAX(AD125:BE126) -> 0 | BH125: 70
A128: № п/п | D128: Показатели | X128: Подтверждающие документы | AH128: Количество баллов
AH129: (баллы не суммируются)
AH130: 0 | AP130: 50 | AX130: 100
A131: 2.9. | D131: Взаимодействие с администрацией обр.орг.,педагогом-психологом, ,мед.работ- ником, педагогами, воспитателями и др. | X131: Планы, протоколы, отчеты, мониторинги, др. | AH131: Отсутствует 0 б | AP131: Осуществляется периодически или по запросу 50 б. | AX131: Осуществляется регулярно 100 б
AH134: =IF(AND(AP134="",AX134=""),IF(FIO="","",0),"") | BG134: =MAX(AH134:BE135) -> 0 | BH134: 100
A136: 2.10. | D136: Взаимодействие с специалистами органов опеки и попечительства, образования, здравоохранения, соц. защиты, КДН и ЗП, ОДН и др. | X136: Планы, протоколы, отчеты, мониторинги, др. | AH136: Не ведется 0 б. | AP136: Ведется эпизодически 50 б. | AX136: Ведется системно, комплексно 100 б
AH139: =IF(AND(AP139="",AX139=""),IF(FIO="","",0),"") | BG139: =MAX(AH139:BE140) -> 0 | BH139: 100
A141: 2.11. | D141: Взаимодействие с родителями (за- конными представителями) по вопро- сам образования ребенка, семейного воспитания, организации досуга и др. | X141: Планы, протоколы, разработки мероприятий, отчеты и др. | AH141: Не ведется 0 б. | AP141: Ведется эпизодически 50 б. | AX141: Ведется системно, комплексно 100 б
AH144: =IF(AND(AP144="",AX144=""),IF(FIO="","",0),"") | BG144: =MAX(AH144:BE145) -> 0 | BH144: 100
A148: 3. | D148: Продуктивность личного вклада педагогического работника в повышение качества образования
...

Sheet ЭЗ предм
C1: Перейти на лист "общие сведения" | AE1: в конец ЭЗ | AX1: ЭЗ - август 2014г. | BJ1: оставить строку пустой, сортировать К2:N30 | BK1: д.б. до 30
A2: Экспертное заключение | BG2: ='общие сведения'!A121 -> воспитатель | BI2: ='общие сведения'!D121 -> воспитателя | BK2: =LEN(BI2) -> 11
BG3: ='общие сведения'!A122 -> воспитатель группы продленного дня | BI3: ='общие сведения'!D122 -> воспитателя ГПД | BK3: =LEN(BI3) -> 15
A4: ='общие сведения'!L5 -> на учителя основной и старшей ступени среднего полного общего образования с учетом результатов основного государственного экзамена (ОГЭ) и единого государственного экзамена (ЕГЭ) | BG4: ='общие сведения'!A123 -> дефектолог | BI4: ='общие сведения'!D123 -> дефектолога | BK4: =LEN(BI4) -> 11
BG5: ='общие сведения'!A124 -> инструктор по труду | BI5: ='общие сведения'!D124 -> инструктора по труду | BK5: =LEN(BI5) -> 20
BG6: ='общие сведения'!A125 -> инструктор по физической культуре | BI6: ='общие сведения'!D125 -> инструктора по физ. культуре | BK6: =LEN(BI6) -> 28
A7: Общие сведения об аттестуемом педагогическом работнике: | BG7: ='общие сведения'!A126 -> инструктор по физическому воспитанию | BI7: ='общие сведения'!D126 -> инструктора по физ.воспитанию | BK7: =LEN(BI7) -> 29
BG8: ='общие сведения'!A127 -> инструктор-методист | BI8: ='общие сведения'!D127 -> инструктора-методиста | BK8: =LEN(BI8) -> 21
A9: Фамилия, имя, отчество | O9: =IF('общие сведения'!C29<>"",PROPER(TRIM('общие сведения'!C29)),"") | BG9: ='общие сведения'!A128 -> концертмейстер | BI9: ='общие сведения'!D128 -> концертмейстера | BK9: =LEN(BI9) -> 15
A10: Место работы | J10: =IF($O$9="","",'общие сведения'!M33) | BG10: ='общие сведения'!A129 -> логопед | BI10: ='общие сведения'!D129 -> логопеда | BK10: =LEN(BI10) -> 8
D11: =IF($O$9="","",'общие сведения'!M34) | BG11: ='общие сведения'!A130 -> мастер производственного обучения | BI11: ='общие сведения'!D130 -> мастера п./о. | BK11: =LEN(BI11) -> 13
D12: =IF($O$9="","",'общие сведения'!M35) | BG12: ='общие сведения'!A131 -> методист | BI12: ='общие сведения'!D131 -> методиста | BK12: =LEN(BI12) -> 9
A13: Должность | J13: =IF(O9="","",'общие сведения'!C40) | BG13: ='общие сведения'!A132 -> музыкальный руководитель | BI13: ='общие сведения'!D132 -> музыкального руководителя | BK13: =LEN(BI13) -> 25
A14: Муниципальное образование | Q14: =IF(O9="","",IF('общие сведения'!D31="муниципальный район",'общие сведения'!G31,'общие сведения'!D31)) | AK14: =IF(O9="","",IF('общие сведения'!D31="муниципальный район",'общие сведения'!D31,'общие сведения'!G31)) | BG14: ='общие сведения'!A133 -> педагог | BI14: ='общие сведения'!D133 -> педагога | BK14: =LEN(BI14) -> 8
A15: Стаж педагогической работы | Q15: =IF(FIO="","",'общие сведения'!D49) | U15: =IF(O9="","",'общие сведения'!E49) | BG15: ='общие сведения'!A134 -> педагог дополнительного образования | BI15: ='общие сведения'!D134 -> педагога доп. образования | BK15: =LEN(BI15) -> 25
A16: Наличие квалификационной категории | X16: =IF(O9<>"",'общие сведения'!D53,"") | AE16: дата присвоения | AO16: =IF(OR('общие сведения'!I53="",X16=""),"",'общие сведения'!I53) | BG16: ='общие сведения'!A135 -> педагог-организатор | BI16: ='общие сведения'!D135 -> педагога-организатора | BK16: =LEN(BI16) -> 21
A17: Заявленная квалификационная категория | X17: =IF(O9<>"",'общие сведения'!D55,"") | BG17: ='общие сведения'!A136 -> педагог-психолог | BI17: ='общие сведения'!D136 -> педагога-психолога | BK17: =LEN(BI17) -> 18
BG18: ='общие сведения'!A137 -> преподаватель | BI18: ='общие сведения'!D137 -> преподавателя | BK18: =LEN(BI18) -> 13
A19: Показатели профессиональной компетентности при аттестации на первую и высшую квалификационные категории педагогических работников | BG19: ='общие сведения'!A138 -> преподаватель-организатор | BI19: ='общие сведения'!D138 -> преподавателя-организатора | BK19: =LEN(BI19) -> 27
BG20: ='общие сведения'!A139 -> психолог | BI20: ='общие сведения'!D139 -> психолога | BK20: =LEN(BI20) -> 9
A21: (Приказ Министерства образования и науки РФ от 7 апреля 2014 г. № 276 «Об утверждении Порядка проведения аттестации педагогических работников организаций, осуществляющих образовательную деятельность») | BG21: ='общие сведения'!A140 -> руководитель физ.воспитания | BI21: ='общие сведения'!D140 -> руководителя физ. воспитания | BK21: =LEN(BI21) -> 28
BG22: ='общие сведения'!A141 -> социальный педагог | BI22: ='общие сведения'!D141 -> социального педагога | BK22: =LEN(BI22) -> 20
BG23: ='общие сведения'!A142 -> старший воспитатель | BI23: ='общие сведения'!D142 -> старшего воспитателя | BK23: =LEN(BI23) -> 20
A24: 1. | D24: Продуктивность образовательной деятельности | BG24: ='общие сведения'!A143 -> тренер | BI24: ='общие сведения'!D143 -> тренера | BK24: =LEN(BI24) -> 7
B25: Первая и высшая квалификационные категории устанавливаются педагогическим работникам на основе: | BG25: ='общие сведения'!A144 -> тренер-преподаватель | BI25: ='общие сведения'!D144 -> тренера-преподавателя | BK25: =LEN(BI25) -> 21
B26: - | C26: стабильных положительных результатов освоения обучающимися образовательных программ по итогам мониторингов, проводимых организацией, а также по итогам мониторинга системы образования, проводимого в порядке, установленном постановлением Правительства Российской Федерации от 5 августа 2013 г. № 662 (п. 36 Порядка аттестации); | BG26: ='общие сведения'!A145 -> учитель | BI26: ='общие сведения'!D145 -> учителя | BK26: =LEN(BI26) -> 7
BG27: ='общие сведения'!A146 -> учитель-дефектолог | BI27: ='общие сведения'!D146 -> учителя-дефектолога | BK27: =LEN(BI27) -> 19
BG28: ='общие сведения'!A147 -> учитель-логопед | BI28: ='общие сведения'!D147 -> учителя-логопеда | BK28: =LEN(BI28) -> 16
BG29: ='общие сведения'!A148 -> 0 | BI29: ='общие сведения'!D148 -> 0 | BK29: =LEN(BI29) -> 1
B30: - | C30: положительной динамики результатов освоения образовательных программ по итогам мониторингов, проводимых организацией, а также положительных результатов освоения образовательных программ по итогам мониторинга системы образования, проводимого в порядке, установленном постановлением Правительства Российской Федерации от 5 августа 2013 г. № 662 (п. 37 Порядка аттестации). | BG30: ='общие сведения'!A149 -> 0 | BI30: ='общие сведения'!D149 -> 0 | BK30: =LEN(BI30) -> 1
BG31: ='общие сведения'!A150 -> 0 | BI31: ='общие сведения'!D150 -> 0 | BK31: =LEN(BI31) -> 1
BG32: =IF(OR('общие сведения'!L36=""),"Ошибка !",VLOOKUP('общие сведения'!L36,BG1:BJ31,3)) -> социального педагога | BI32: =LEN(BG32) -> 20
BG33: =IF(ISERR(FIND(LEFT(BG32,5),J13)),0,1) -> 0
A35: № п/п | D35: Показатели | X35: Подтверждающие документы | AH35: Количество баллов | BH35: Сум. макс.
AH36: (баллы не суммируются) | BG36: ФОРМУЛЫ | BI36: *
AH37: 0 | AP37: 50-100 | AX37: 70-120 | BI37: 1. итого = | BJ37: =SUM(BG38:BG85) -> 0
A38: 1.1. | D38: Результаты освоения обучающимися образовательных программ по итогам мониторингов, проводимых организацией (качество знаний с учетом статуса образовательной организации - см. Приложение 1) | X38: Диаграммы, графи- ки и др.документы, отражающие ре- зультаты освоения обучающимися образовательных программ | AH38: Уровень освоения обучающимися образовательных программ
AH40: Низкий | AP40: Средний - 50б. | AX40: Высокий - 100б.
BH42: max | BI42: *
AH43: =IF(AND(AP43="",AX43=""),IF(FIO="","",0),"") | BG43: =MAX(AH43:BE44) -> 0 | BH43: 100
A45: 1.2. | D45: Динамика результатов освоения обучающимися образовательных программ по итогам мониторингов, проводимых организацией (см. Приложение 1) | X45: Диаграммы, графи- ки и др.документы, отражающие динамику резуль- татов освоения обучающимися образовательных программ | AH45: Отрицательная динамика результатов | AP45: Стабильные результаты | AX45: Положительная динамика результатов
AP48: стабильные - 50б. стабильно высокие - 100б. | AX48: 2-3 года - 70б. 4 года и более - 120б.
BH49: max | BI49: *
AH50: =IF(AND(AP50="",AX50=""),IF(FIO="","",0),"") | BG50: =MAX(AH50:BE51) -> 0 | BH50: 120
A52: 1.3. | D52: ="Результаты освоения обучающимися образовательных программ по итогам мониторинга системы образования"&IF('общие сведения'!N13='общие сведения'!I22,""," *") -> Результаты освоения обучающимися образовательных программ по итогам мониторинга системы образования | X52: Диаграммы, графи- ки и др.документы, отражающие ре- зультаты освоения обучающимися образовательных программ | AH52: Уровень освоения обучающимися образовательных программ
AH54: Низкий | AP54: Средний - 50б. | AX54: Высокий - 100б.
BH56: max | BI56: *
D57: (см. Приложение 1) | AH57: =IF(AND(AP57="",AX57=""),IF(FIO="","",0),"") | BG57: =MAX(AH57:BE58) -> 0 | BH57: 100
A59: № п/п | D59: Показатели | X59: Подтверждающие документы | AH59: Количество баллов
AH60: (баллы не суммируются) | BG60: ФОРМУЛЫ
AH61: 0 | AP61: 50-100 | AX61: 70-120
A62: 1.4. | D62: ="Динамика результатов освоения обучающимися образовательных программ по итогам мониторинга системы образования"&IF('общие сведения'!N13='общие сведения'!I22,""," *") -> Динамика результатов освоения обучающимися образовательных программ по итогам мониторинга системы образования | X62: Диаграммы, графи- ки и др.документы, отражающие динамику резуль- татов освоения обучающимися образовательных программ | AH62: Отрицательная динамика результатов | AP62: Стабильные результаты | AX62: Положительная динамика результатов
AP65: стабильные - 50б. стабильно высокие - 100б. | AX65: 2-3 года - 70б. 4 года и более - 120б.
D67: (см. Приложение 1) | BH67: max | BI67: *
AH68: =IF(AND(AP68="",AX68=""),IF(FIO="","",0),"") | BG68: =MAX(AH68:BE69) -> 0 | BH68: 120
A70: № п/п | D70: Показатели | X70: Подтверждающие документы | AH70: Количество баллов
AH71: (баллы не суммируются)
AH72: 0 | AP72: 50 | AX72: 100
A73: 1.5. | D73: Результаты итоговой аттестации в форме ЕГЭ | X73: Результаты ЕГЭ | AH73: Ниже уровня среднерегио- нальных результатов | AP73: На уровне среднерегио- нальных результатов | AX73: Выше уровня среднерегио- нальных результатов | BH73: ="Результаты итоговой аттестации в форме ЕГЭ "&VLOOKUP(BI124,BI127:BY133,3) -> Результаты итоговой аттестации в форме ЕГЭ
D76: (средние данные за межаттестацион- ный период - см. Приложение 1)
AH77: =IF(AND(AP77="",AX77=""),IF(FIO="","",0),"") | BG77: =IF(OR('общие сведения'!$R$5=3,'общие сведения'!$R$5=4),MAX(AH77:BE78),0) -> 0 | BH77: 100
A79: 1.6. | D79: Результаты итоговой аттестации в форме ГИА-9 | X79: Результаты ГИА | AH79: Ниже уровня среднерегио- нальных результатов | AP79: На уровне среднерегио- нальных результатов | AX79: Выше уровня среднерегио- нальных результатов | BH79: ="Результаты итоговой аттестации в форме ГИА-9 "&VLOOKUP(BI124,BI127:BY133,4) -> Результаты итоговой аттестации в форме ГИА-9
D82: (средние данные за межаттестацион- ный период - см. Приложение 1)
AH83: =IF(AND(AP83="",AX83=""),IF(FIO="","",0),"") | BG83: =IF(OR('общие сведения'!$R$5=3,'общие сведения'!$R$5=2),MAX(AH83:BE84),0) -> 0 | BH83: 100
A86: 2. | D86: Продуктивность деятельности педагога по развитию учащихся | BI86: 2. итого = | BJ86: =SUM(BG87:BG173) -> 0
B87: Первая и высшая квалификационные категории устанавливаются педагогическим работникам на основе:
B88: - | C88: выявления развития у обучающихся способностей к научной (интеллектуальной), творческой, физкультурно-спортивной деятельности (п. 36 Порядка аттестации);
B90: - | C90: выявления и развития способностей обучающихся к научной (интеллектуальной), творческой, физкультурно-спортивной деятельности, а также их участия в олимпиадах, конкурсах, фестивалях, соревнованиях (п. 37 Порядка аттестации).
A94: № п/п | D94: Показатели | S94: Количество баллов
S95: (баллы суммируются)
S96: 0 | X96: 10-30 | AD96: 20-50 | AK96: 30-100 | AR96: 70-170 | AY96: 100-200
A97: 2.1. | D97: =VLOOKUP(BI124,BI127:BY133,5) -> Результаты участия обучающихся в предметных олимпиадах | S97: Олимпиады, рекомендуемые Минобрнауки РФ | BG97: есть: уч.технологии, обж, физ-ра
S98: Не участвует, | X98: Уровень обр.орг. | AD98: Муницип. уровень | AK98: Региональн. уровень | AR98: Федеральн. уровень | AY98: Международ. уровень | BG98: нет: уч. изо, музыка
X100: победитель / призер | AD100: победитель / призер | AK100: победитель / призер | AR100: победитель / призер | AY100: победитель / призер
D101: (см. Приложение 2) Примечание: 1.Олимпиады оцениваются в соответствии с перечнем, рекомендуемым Минобрнауки РФ. 2.Баллы за участие даются только при отсутствии победителей и призеров. 3.Повышающий коэффициент дается за стабильно высокие результаты(не менее 3-х лет) в подготовке победителей и призеров предмет.олимпиад.
X102: 1-5 чел. - 20б. 6 и более - 30б. Участие -10б | AD102: 1-2 чел. - 50б. 3-7 чел. - 60б. 8 и более - 70б. Участие - 20б. | AK102: 1-2 чел. - 70б. 3-7 чел - 80б. 8 и более - 100б. Участие - 30б. | AR102: 1-2 чел. - 100б. 3-5 чел. - 130б. 6-7 чел. - 150б. 8 и более - 170б. Участие - 70б. | AY102: 1 чел. - 170б. 2 и более - 200б. Участие -100б | BH102: max | BI102: *
S103: =IF(AND(X103="",AD103="",AK103="",AR103="",AY103=""),IF(FIO="","",0),"") | BG103: =SUM(S103:BE104) -> 0 | BH103: 570
S105: Повышающий коэффициент | AD105: Муниципальн. уровень - 50б. | AK105: Региональн. уровень -70б. | AR105: Федеральн. уровень -100б. | AY105: Международ. уровень -150б.
AD108: =IF(AND(AF108=""),IF(FIO="","",0),"") | AK108: =IF(AND(AM108=""),IF(FIO="","",0),"") | AR108: =IF(AND(AT108=""),IF(FIO="","",0),"") | AY108: =IF(AND(BA108=""),IF(FIO="","",0),"") | BG108: =SUM(AD108:BE109) -> 0 | BH108: 370
A111: * Бонусный показатель
D112: Подтвержд. документы: грамоты, дипломы или др. документы победителей, призеров и участников олимпиад | S112: Количество баллов
S113: (баллы суммируются)
S114: 0 | X114: 10-20 | AD114: 10-30 | AK114: 20-40 | AR114: 30-50 | AY114: 40-60
S115: Олимпиады, не входящие в реком. перечень, в т.ч. дистанционные
S116: Не участвует, | X116: Уровень обр.орг. | AD116: Муницип. уровень | AK116: Региональн. уровень | AR116: Федеральн. уровень | AY116: Международ. уровень
X118: победитель / призер | AD118: победитель / призер | AK118: победитель / призер | AR118: победитель / призер | AY118: победитель / призер
X120: 1-5 чел. - 10б. 6 и более - 20б. | AD120: 1-5 чел. - 20б. 6 и более - 30б. | AK120: 1-5 чел. - 30б. 6 и более - 40б. | AR120: 1-5 чел. - 40б. 6 и более - 50б. | AY120: 1-5 чел. - 50б. 6 и более - 60б.
AD121: Участие - 10б. | AK121: Участие - 20б. | AR121: Участие - 30б. | AY121: Участие - 40б. | BK121: 1.5. | BL121: 1.6. | BM121: 2.1. | BN121: 2.2. | BO121: 2.2. | BP121: 3.3.12. | BQ121: 3.3.12.
S122: =IF(AND(X122="",AD122="",AK122="",AR122="",AY122=""),IF(FIO="","",0),"") | BG122: =SUM(S122:BE123) -> 0 | BH122: 200
A124: № п/п | D124: Показатели | S124: Количество баллов | BI124: ='общие сведения'!I22 -> основное | BJ124: нет | BM124: нет
S125: (баллы суммируются) | BJ125: 1.3.,1.4 | BK125: =A73 -> 1.5. | BL125: =A79 -> 1.6. | BM125: =A97 -> 2.1. | BN125: =A127 -> 2.2. | BO125: =A127 -> 2.2. | BP125: =A382 -> 3.3.12. | BQ125: =BP125 -> 3.3.12.
S126: 0 | X126: 10-30 | AD126: 20-50 | AK126: 30-100 | AR126: 70-170 | AY126: 100-200 | BI126: 1 | BJ126: 2 | BK126: 3 | BL126: 4 | BM126: 5 | BN126: 6 | BO126: 7 | BP126: 8 | BQ126: 9 | BR126: 10 | BS126: 11 | BT126: 12 | BU126: 13 | BV126: 14 | BW126: 15 | BX126: 16 | BY126: 17
A127: 2.2. | D127: =VLOOKUP(BI124,BI127:BY133,6) -> Результаты внеурочной деятельности обучающих- ся (по предмету): | S127: Конкурсы, рекомендуемые Минобрнауки РФ | BI127: основное | BK127: =IF(OR('общие сведения'!R5=3,'общие сведения'!R5=2)," "," *") | BL127: =IF(OR('общие сведения'!R5=3,'общие сведения'!R5=4)," "," *") | BM127: Результаты участия обучающихся в предметных олимпиадах | BN127: Результаты внеурочной деятельности обучающих- ся (по предмету): | BO127: - конкурсы, - турниры, - выставки и др. (см. Приложение 2)
S128: Не участвует | X128: Уровень обр.орг. | AD128: Муницип. уровень | AK128: Региональн. уровень | AR128: Федеральн. уровень | AY128: Международ. уровень | BI128: уч. ИЗО | BJ128: * | BK128: * | BL128: * | BM128: Результаты участия обучающихся в предметных олимпиадах * | BN128: Результаты внеурочной деятельности обучающих- ся (по предмету): | BO128: - конкурсы, - выставки и др. (см. Приложение 2) | BP128: Участие в профессиональных выставках * | BQ128: наличие подтвержд. документов
BI129: уч. музыки | BJ129: * | BK129: * | BL129: * | BM129: Результаты участия обучающихся в предметных олимпиадах * | BN129: Результаты внеурочной деятельности обучающих- ся (по предмету): | BO129: - конкурсы, - концерты и др. (см. Приложение 2) | BP129: Участие в концертной деятельности * | BQ129: наличие подтвержд. документов
X130: победитель / призер | AD130: победитель / призер | AK130: победитель / призер | AR130: победитель / призер | AY130: победитель / призер | BI130: уч. МХК | BJ130: * | BK130: * | BL130: * | BM130: Результаты участия обучающихся в предметных олимпиадах | BN130: Результаты внеурочной деятельности обучающих- ся (по предмету): | BO130: - конкурсы, - турниры, - выставки и др. (см. Приложение 2)
D131: =VLOOKUP(BI124,BI127:BY133,7) -> - конкурсы, - турниры, - выставки и др. (см. Приложение 2) | BI131: уч. ОБЖ | BJ131: * | BK131: * | BL131: * | BM131: Результаты участия обучающихся в предметных олимпиадах | BN131: Результаты внеурочной деятельности обучающих- ся (по предмету): | BO131: - конкурсы, - спортакиады, - турниры, - соревнования и др. (см. Приложение 2) | BP131: Подготовка и проведение командно-штабных, тактико-специальных учений и других мероприятий по ГО («Дня призывника», слета-игры «Школа безопасности» и др.) | BQ131: планы, отчеты, приказы/распоряжения о проведении меропр. и др.материалы, под- твержд. реализацию данного направления
X132: 1-5 чел.- 20б. 6 и более - 30б. | AD132: 1-2 чел. - 30б. 3-7 чел. - 40 б 8 и более - 50б. | AK132: 1-2 чел. - 50б. 3-7 чел - 70б. 8 и более - 100б. | AR132: 1-2 чел. - 100б. 3-5 чел. - 130б. 6-7 чел. - 150б. 8 и более - 170б. | AY132: 1 чел. - 170б. 2 и более - 200б. | BI132: уч. технологии | BJ132: * | BK132: * | BL132: * | BM132: Результаты участия обучающихся в предметных олимпиадах | BN132: Результаты внеурочной деятельности обучающих- ся (по предмету): | BO132: - конкурсы, - выставки и др. (см. Приложение 2) | BP132: Участие в профессиональных выставках * | BQ132: наличие подтвержд. документов
D133: Примечание: Конкурсы оцениваются в соответствии с перечнем, рекомендуемым Минобрнауки РФ | BI133: уч. физ-ры | BJ133: * | BK133: * | BL133: * | BM133: Результаты участия обучающихся в предметных олимпиадах | BN133: Результаты внеурочной деятельности обучающих- ся (по предмету): | BO133: - конкурсы, - спортакиады, - турниры, - соревнования и др. (см. Приложение 2) | BP133: Организация и проведение массовых спортивно-оздоровительных мероприятий | BQ133: программы, сценарии проведения меро- приятий и др. подтвержд. документы
X134: Участие-10 | AD134: Участие - 20б. | AK134: Участие - 30б. | AR134: Участие - 70б. | AY134: Участие -100б | BH134: max | BI134: *
...

Sheet КТ
A1: Единый квалификационный справочник должностей руководителей, специалистов и служащих (Приложение к приказу Министерства здравоохранения и социального развития Российской Федерации от 26 августа 2010 г. №761н)
A4: Квалификационные характеристики должностей работников образования
A7: Социальный педагог Должностные обязанности. Осуществляет комплекс мероприятий по воспитанию, образованию, развитию и социальной защите личности в учреждениях, организациях и по месту жительства обучающихся (воспитанников, детей). Изучает особенности личности обучающихся (воспитанников, детей) и их микросреды, условия их жизни. Выявляет интересы и потребности, трудности и проблемы, конфликтные ситуации, отклонения в поведении обучающихся (воспитанников, детей) и своевременно оказывает им социальную помощь и поддержку. Выступает посредником между обучающимися (воспитанниками, детьми) и учреждением, организацией, семьей, средой, специалистами различных социальных служб, ведомств и административных органов. Определяет задачи, формы, методы социально-педагогической работы с обучающимися (воспитанниками, детьми), способы решения личных и социальных проблем, используя современные образовательные технологии, включая информационные, а также цифровые образовательные ресурсы. Принимает меры по социальной защите и социальной помощи, реализации прав и свобод личности обучающихся (воспитанников, детей). Организует различные виды социально значимой деятельности обучающихся (воспитанников, детей) и взрослых, мероприятия, направленные на развитие социальных инициатив, реализацию социальных проектов и программ, участвует в их разработке и утверждении. Способствует установлению гуманных, нравственно здоровых отношений в социальной среде. Содействует созданию обстановки психологического комфорта и безопасности личности обучающихся (воспитанников, детей), обеспечивает охрану их жизни и здоровья. Организует разнообразные виды деятельности обучающихся (воспитанников, детей), ориентируясь на особенности их личности, развитие их мотивации к соответствующим видам деятельности, познавательных интересов, способностей, используя компьютерные технологии, в т.ч. текстовые редакторы и электронные таблицы в своей деятельности. Участвует в организации их самостоятельной деятельности, в том числе исследовательской. Обсуждает с обучающимися (воспитанниками, детьми) актуальные события современности. Участвует в осуществлении работы по трудоустройству, патронату, обеспечению жильем, пособиями, пенсиями, оформлению сберегательных вкладов, использованию ценных бумаг обучающихся (воспитанников, детей) из числа сирот и оставшихся без попечения родителей. Взаимодействует с учителями, родителями (лицами, их заменяющими), специалистами социальных служб, семейных и молодежных служб занятости, с благотворительными организациями и др. в оказании помощи обучающимся (воспитанникам, детям), нуждающимся в опеке и попечительстве, с ограниченными физическими возможностями, девиантным поведением, а также попавшим в экстремальные ситуации. Участвует в работе педагогических, методических советов, в других формах методической работы, в подготовке и проведении родительских собраний, оздоровительных, воспитательных и других мероприятий, предусмотренных образовательной программой, в организации и проведении методической и консультативной помощи родителям (лицам, их заменяющих) обучающихся (воспитанников, детей). Обеспечивает охрану жизни и здоровья обучающихся (воспитанников, детей) во время образовательного процесса. Выполняет правила по охране труда и пожарной безопасности. Должен знать: приоритетные направления развития образовательной системы Российской Федерации; законы и иные нормативные правовые акты, регламентирующие образовательную деятельность; Конвенцию о правах ребенка; основы социальной политики, права и государственного строительства, трудового и семейного законодательства; общую и социальную педагогику; педагогическую, социальную, возрастную и детскую психологию; основы здоровьесбережения и организации здорового образа жизни, социальной гигиены; социально-педагогические и диагностические методики; методы и способы использования образовательных технологий, в том числе дистанционных; методы формирования основных составляющих компетентности (профессиональной, коммуникативной, информационной, правовой); современные педагогические технологии: продуктивного, дифференцированного обучения, реализации компетентностного подхода, развивающего обучения; основы работы с персональным компьютером, с электронной почтой и браузерами, мультимедийным оборудованием; методы убеждения, аргументации своей позиции, установления контактов с обучающимися (воспитанниками, детьми) разного возраста, их родителями (лицами, их заменяющими), коллегами по работе; технологии диагностики причин конфликтных ситуаций, их профилактики и разрешения; социально-педагогической диагностики (опросов, индивидуальных и групповых интервью), навыки социально-педагогической коррекции, снятия стрессов и т.п.; правила внутреннего трудового распорядка образовательного учреждения; правила по охране труда и пожарной безопасности. Требования к квалификации. Высшее профессиональное образование или среднее профессиональное образование по направлениям подготовки "Образование и педагогика", "Социальная педагогика" без предъявления требований к стажу работы.
